BEGIN:VCALENDAR
VERSION:2.0
PRODID:-//The Greenery Nursery - ECPv6.15.20//NONSGML v1.0//EN
CALSCALE:GREGORIAN
METHOD:PUBLISH
X-ORIGINAL-URL:https://greenerynsy.com
X-WR-CALDESC:Events for The Greenery Nursery
REFRESH-INTERVAL;VALUE=DURATION:PT1H
X-Robots-Tag:noindex
X-PUBLISHED-TTL:PT1H
BEGIN:VTIMEZONE
TZID:America/Los_Angeles
BEGIN:DAYLIGHT
TZOFFSETFROM:-0800
TZOFFSETTO:-0700
TZNAME:PDT
DTSTART:20250309T100000
END:DAYLIGHT
BEGIN:STANDARD
TZOFFSETFROM:-0700
TZOFFSETTO:-0800
TZNAME:PST
DTSTART:20251102T090000
END:STANDARD
BEGIN:DAYLIGHT
TZOFFSETFROM:-0800
TZOFFSETTO:-0700
TZNAME:PDT
DTSTART:20260308T100000
END:DAYLIGHT
BEGIN:STANDARD
TZOFFSETFROM:-0700
TZOFFSETTO:-0800
TZNAME:PST
DTSTART:20261101T090000
END:STANDARD
BEGIN:DAYLIGHT
TZOFFSETFROM:-0800
TZOFFSETTO:-0700
TZNAME:PDT
DTSTART:20270314T100000
END:DAYLIGHT
BEGIN:STANDARD
TZOFFSETFROM:-0700
TZOFFSETTO:-0800
TZNAME:PST
DTSTART:20271107T090000
END:STANDARD
END:VTIMEZONE
BEGIN:VEVENT
DTSTART;TZID=America/Los_Angeles:20260530T100000
DTEND;TZID=America/Los_Angeles:20260530T110000
DTSTAMP:20260424T104333
CREATED:20260323T153746Z
LAST-MODIFIED:20260323T153746Z
UID:19746-1780135200-1780138800@greenerynsy.com
SUMMARY:Rose Care Seminar with Erin Aguiar
DESCRIPTION:Rose Care Seminar with Erin Aguiar 🌹\n\n    Join Erin as she shares expert tips on caring for your roses\, including proper pruning techniques to keep them healthy\, vibrant\, and blooming beautifully all season long. Perfect for beginners and seasoned gardeners alike!\n   \n\n    This is a free event! Pre-register to receive a 10% off coupon valid the weekend of the seminar (Saturday & Sunday only).\n   \nSaturday\, May 30th at 10 AM \n  Register Now
URL:https://greenerynsy.com/event/rose-care-seminar-with-erin-aguiar/
LOCATION:The Greenery Nursery\, 742 East Olive Ave\, Turlock\, CA\, 95380\, United States
CATEGORIES:Seminar
ATTACH;FMTTYPE=image/png:https://greenerynsy.com/wp-content/uploads/2026/03/Rose-Care-Flyer-Instagram-Post-1.png
END:VEVENT
END:VCALENDAR