BEGIN:VCALENDAR
VERSION:2.0
PRODID:-//The Greenery Nursery - ECPv6.15.20//NONSGML v1.0//EN
CALSCALE:GREGORIAN
METHOD:PUBLISH
X-ORIGINAL-URL:https://greenerynsy.com
X-WR-CALDESC:Events for The Greenery Nursery
REFRESH-INTERVAL;VALUE=DURATION:PT1H
X-Robots-Tag:noindex
X-PUBLISHED-TTL:PT1H
BEGIN:VTIMEZONE
TZID:America/Los_Angeles
BEGIN:DAYLIGHT
TZOFFSETFROM:-0800
TZOFFSETTO:-0700
TZNAME:PDT
DTSTART:20250309T100000
END:DAYLIGHT
BEGIN:STANDARD
TZOFFSETFROM:-0700
TZOFFSETTO:-0800
TZNAME:PST
DTSTART:20251102T090000
END:STANDARD
BEGIN:DAYLIGHT
TZOFFSETFROM:-0800
TZOFFSETTO:-0700
TZNAME:PDT
DTSTART:20260308T100000
END:DAYLIGHT
BEGIN:STANDARD
TZOFFSETFROM:-0700
TZOFFSETTO:-0800
TZNAME:PST
DTSTART:20261101T090000
END:STANDARD
BEGIN:DAYLIGHT
TZOFFSETFROM:-0800
TZOFFSETTO:-0700
TZNAME:PDT
DTSTART:20270314T100000
END:DAYLIGHT
BEGIN:STANDARD
TZOFFSETFROM:-0700
TZOFFSETTO:-0800
TZNAME:PST
DTSTART:20271107T090000
END:STANDARD
END:VTIMEZONE
BEGIN:VEVENT
DTSTART;TZID=America/Los_Angeles:20260509T100000
DTEND;TZID=America/Los_Angeles:20260509T110000
DTSTAMP:20260424T090940
CREATED:20260318T153949Z
LAST-MODIFIED:20260331T151029Z
UID:19706-1778320800-1778324400@greenerynsy.com
SUMMARY:Mommy & Me Pot-Up with Emily
DESCRIPTION:Mommy & Me Pot-Up with Emily 🌸🪴\n\n    Grab your little one and join us for a fun\, hands-on workshop! Each pair will create their own pots using one 7.5″ and one 10″ terra cotta pot\, along with two 4″ premiums and two 6-pack annuals. A perfect way to spend time together and get creative with plants!\n   \n\n    $45 per pair · Limited to 16 spots\n    Pre-register to receive a 10% off coupon valid the weekend of the event (Saturday & Sunday only).\n   \nSaturday\, May 9th at 10 AM \n  Register Now
URL:https://greenerynsy.com/event/mommy-me-pot-up-with-emily/
LOCATION:CA
CATEGORIES:Make & Take
ATTACH;FMTTYPE=image/png:https://greenerynsy.com/wp-content/uploads/2026/03/Mommy-Me-Instagram-Post-Instagram-Post.png
END:VEVENT
BEGIN:VEVENT
DTSTART;TZID=America/Los_Angeles:20260516T100000
DTEND;TZID=America/Los_Angeles:20260516T110000
DTSTAMP:20260424T090940
CREATED:20260318T154123Z
LAST-MODIFIED:20260331T151055Z
UID:19708-1778925600-1778929200@greenerynsy.com
SUMMARY:Gnome/Fairy Pot-Up with Audrey
DESCRIPTION:Gnome/Fairy Pot-Up with Audrey 🧚‍♀️🌿\n\n    Join Audrey for a whimsical\, hands-on workshop where you’ll create your own mini garden in a terra cotta pot! Each participant will use a pot\, one ground cover\, one annual\, and fun fairy and gnome accessories to design their own magical scene.\n   \n\n    $40 per person · Limited to 16 spots\n    Pre-register to receive a 10% off coupon valid the weekend of the event (Saturday & Sunday only).\n   \nSaturday\, May 16th at 10 AM \nRegister Now
URL:https://greenerynsy.com/event/gnome-fairy-pot-up-with-audrey/
LOCATION:The Greenery Nursery\, 742 East Olive Ave\, Turlock\, CA\, 95380\, United States
CATEGORIES:Make & Take
ATTACH;FMTTYPE=image/png:https://greenerynsy.com/wp-content/uploads/2026/03/Gnomefairy-Instagram-Post.png
END:VEVENT
END:VCALENDAR